BEGIN:VCALENDAR
VERSION:2.0
PRODID:-//eventon.com NONSGML v1.0//EN
CALSCALE:GREGORIAN
METHOD:PUBLISH
BEGIN:VEVENT
UID:69e73b459ee9e
DTSTAMP:20260421T085429Z
DTSTART:20260314T160000Z
DTEND:20260318T030000Z
LOCATION:On Rotation Brewery &amp; Kitchen 7701 Lemmon Ave.\,  Suite 200\,  Dallas\,  TX 75209
SUMMARY:Green Beer Flows for Saint Patrick's Day
DESCRIPTION:Green beer? Oh\,  we have it. Join us for a green edition of an
 y beer we have on tap — or a decidedly NOT green beer if that&#8217;s you
 r preference. Choose any light beer or pitcher from the tap wall and tell u
 s to MAKE IT GREEN for you.\nhttps://on-rotation.com/events/green-beer-flow
 s-for-saint-patricks-day-2026/
URL:https://on-rotation.com/events/green-beer-flows-for-saint-patricks-day-2026/
END:VEVENT
END:VCALENDAR