BEGIN:VCALENDAR
VERSION:2.0
PRODID:-//eventon.com NONSGML v1.0//EN
CALSCALE:GREGORIAN
METHOD:PUBLISH
BEGIN:VEVENT
UID:69e88ca246e60
DTSTAMP:20260422T085354Z
DTSTART:20250801T230000Z
DTEND:20250802T010000Z
LOCATION:On Rotation Brewery &amp; Kitchen 7701 Lemmon Ave.\,  Suite 200\,  Dallas\,  TX 75209
SUMMARY:August's Official P1 Six Pack Launch Party
DESCRIPTION:We&#8217;ve collaborated again with Matt McClearin and 1310 The
  Ticket to drop another entry in the P1 Six Pack. We can&#8217;t tell you t
 he name. (That&#8217;ll be revealed Friday.) But we highly recommend you be
  here Friday at 6 PM to party with us!\nhttps://on-rotation.com/events/augu
 sts-official-p1-six-pack-launch-party-the-ticket-2025/
URL:https://on-rotation.com/events/augusts-official-p1-six-pack-launch-party-the-ticket-2025/
END:VEVENT
END:VCALENDAR