BEGIN:VCALENDAR
VERSION:2.0
PRODID:-//eventon.com NONSGML v1.0//EN
CALSCALE:GREGORIAN
METHOD:PUBLISH
BEGIN:VEVENT
UID:69e73df071b0c
DTSTAMP:20260421T090552Z
DTSTART:20250704T160000Z
DTEND:20250707T020000Z
LOCATION:On Rotation Brewery &amp; Kitchen 7701 Lemmon Ave.\,  Suite 200\,  Dallas\,  TX 75209
SUMMARY:National Fried Chicken Day BASH
DESCRIPTION:This weekend is one of our FAVORITE holidays! That&#8217;s righ
 t. Sunday is National Fried Chicken Day! We&#8217;re celebrating all weeken
 d long with fried chicken (obviously)\,  fried chicken tunes\,  and a speci
 al &#8220;nugz&#8221; sampler available Friday through Sunday featuring 32o
 z of gluten-free chicken nuggets\,  three sauces of your choice\,  and a[..
 ]\nhttps://on-rotation.com/events/national-fried-chicken-day-bash-2025/
URL:https://on-rotation.com/events/national-fried-chicken-day-bash-2025/
END:VEVENT
END:VCALENDAR