BEGIN:VCALENDAR
VERSION:2.0
PRODID:-//eventon.com NONSGML v1.0//EN
CALSCALE:GREGORIAN
METHOD:PUBLISH
BEGIN:VEVENT
UID:69e7c2983207a
DTSTAMP:20260421T183152Z
DTSTART:20241228T210000Z
DTEND:20241230T030000Z
LOCATION:On Rotation Brewery &amp; Kitchen 7701 Lemmon Ave.\,  Suite 200\,  Dallas\,  TX 75209
SUMMARY:Up All Night Peticolas Collaboration Release
DESCRIPTION:Peticolas Brewing invited On Rotation to collaborate with them 
 on one of 13 special brews to release at their &#8220;Next Level&#8221; Ann
 iversary party on Saturday\,  December 28\,  and we were happy to oblige. U
 p All Night is a 10.5% ABV Imperial Oatmeal Espresso Coffee Stout aged on f
 reshly roasted Brazilian[..]\nhttps://on-rotation.com/events/up-all-night-p
 eticolas-collaboration-release/
URL:https://on-rotation.com/events/up-all-night-peticolas-collaboration-release/
END:VEVENT
END:VCALENDAR