BEGIN:VCALENDAR
VERSION:2.0
PRODID:-//eventon.com NONSGML v1.0//EN
CALSCALE:GREGORIAN
METHOD:PUBLISH
BEGIN:VEVENT
UID:69eb6ff1584fa
DTSTAMP:20260424T132817Z
DTSTART:20240919T190000Z
DTEND:20240923T020000Z
LOCATION:On Rotation Brewery &amp; Kitchen 7701 Lemmon Ave.\,  Suite 200\,  Dallas\,  TX 75209
SUMMARY:Oktoberfest Fest Fest
DESCRIPTION:The Oktoberfest celebration in Munich officially kicks off Sept
 ember 21 so we&#8217;re bringing a little a lot of Munich to the brewpub Th
 ursday\,  September 19\,  through Sunday\,  September 22\,  with &#8220;Fes
 t Fest&#8221; Oktoberfest tap takeover featuring all of the märzens\,  fes
 tbiers\,  and Oktoberfests we can get our hands on &#8212;[..]\nhttps://on-
 rotation.com/events/oktoberfest-fest-fest-2024/
URL:https://on-rotation.com/events/oktoberfest-fest-fest-2024/
END:VEVENT
END:VCALENDAR