BEGIN:VCALENDAR
VERSION:2.0
PRODID:-//eventon.com NONSGML v1.0//EN
CALSCALE:GREGORIAN
METHOD:PUBLISH
BEGIN:VEVENT
UID:69eae370baa14
DTSTAMP:20260424T032848Z
DTSTART:20240502T200000Z
DTEND:20240502T050000Z
LOCATION:On Rotation Brewery &amp; Kitchen 7701 Lemmon Ave.\,  Suite 200\,  Dallas\,  TX 75209
SUMMARY:Blue Agave Mexican Lager Returns
DESCRIPTION:The key component to a Mexican lager is drinkability. Beyond th
 at\,  there can be a lot of variation. Just in time for Cinco de Mayo\,  we
 &#8217;re proud to welcome our take on the style\,  Blue Agave\,  back to t
 he taps! When we set out to make this brew\,  we knew[..]\nhttps://on-rotat
 ion.com/events/blue-agave-mexican-lager-returns-may-2024/
URL:https://on-rotation.com/events/blue-agave-mexican-lager-returns-may-2024/
END:VEVENT
END:VCALENDAR