BEGIN:VCALENDAR
VERSION:2.0
PRODID:-//eventon.com NONSGML v1.0//EN
CALSCALE:GREGORIAN
METHOD:PUBLISH
BEGIN:VEVENT
UID:69ebd357558ea
DTSTAMP:20260424T203223Z
DTSTART:20240127T160000Z
DTEND:20240127T180000Z
LOCATION:On Rotation Brewery &amp; Kitchen 7701 Lemmon Ave.\,  Suite 200\,  Dallas\,  TX 75209
SUMMARY:Pilates & Pints with Pilates214
DESCRIPTION:Pilates214 will lead an all-levels\,  50-minute pilates mat cla
 ss starting at 10 AM. Be sure to bring your mat! Reserve Your Spot Now This
  class will be indoors so there is no concern of inclement weather. Ticket 
 price covers the cost of the class. Drinks &amp; beers will be available[..
 ]\nhttps://on-rotation.com/events/pilates-pints-with-pilates214-jan2024/
URL:https://on-rotation.com/events/pilates-pints-with-pilates214-jan2024/
END:VEVENT
END:VCALENDAR