BEGIN:VCALENDAR
VERSION:2.0
PRODID:-//eventon.com NONSGML v1.0//EN
CALSCALE:GREGORIAN
METHOD:PUBLISH
BEGIN:VEVENT
UID:69e73a4716a84
DTSTAMP:20260421T085015Z
DTSTART:20240121T190000Z
DTEND:20240121T230000Z
LOCATION:On Rotation Brewery &amp; Kitchen 7701 Lemmon Ave.\,  Suite 200\,  Dallas\,  TX 75209
SUMMARY:Happily Ever Sip & Shop Sunday Market
DESCRIPTION:Happily Ever Sip &amp; Shop will host a market with us on Sunda
 y\,  January 21\,  from 1 PM to 5 PM. This is a family-friendly event with 
 no fee to attend. Join us to check out some local vendors with jewelry\,  h
 andcrafted items\,  and unique finds. For more information and[..]\nhttps:/
 /on-rotation.com/events/happily-ever-sip-shop-sunday-market-jan2024/
URL:https://on-rotation.com/events/happily-ever-sip-shop-sunday-market-jan2024/
END:VEVENT
END:VCALENDAR