BEGIN:VCALENDAR
VERSION:2.0
PRODID:-//eventon.com NONSGML v1.0//EN
CALSCALE:GREGORIAN
METHOD:PUBLISH
BEGIN:VEVENT
UID:69e9023c01272
DTSTAMP:20260422T171540Z
DTSTART:20231026T190000Z
DTEND:20231027T030000Z
LOCATION:On Rotation Brewery &amp; Kitchen 7701 Lemmon Ave.\,  Suite 200\,  Dallas\,  TX 75209
SUMMARY:Velvet Elvis "Halloween Edition" Release
DESCRIPTION:In the spirit of the Halloween season\,  we&#8217;re &#8220;tri
 ck or treating&#8221; up our Velvet Elvis Fried Peanut Butter &amp; Banana 
 Sandwich Breakfast Stout with peanut butter cups. On tap Thursday\,  this s
 pecial edition is a touch sweeter with a creamy\,  rich peanut butter taste
  and a larger chocolate presence\,  which[..]\nhttps://on-rotation.com/even
 ts/velvet-elvis-halloween-edition-release/
URL:https://on-rotation.com/events/velvet-elvis-halloween-edition-release/
END:VEVENT
END:VCALENDAR