BEGIN:VCALENDAR
VERSION:2.0
PRODID:-//eventon.com NONSGML v1.0//EN
CALSCALE:GREGORIAN
METHOD:PUBLISH
BEGIN:VEVENT
UID:69e75109c32d6
DTSTAMP:20260421T102721Z
DTSTART:20230817T190000Z
DTEND:20230818T030000Z
LOCATION:On Rotation Brewery &amp; Kitchen 7701 Lemmon Ave.\,  Suite 200\,  Dallas\,  TX 75209
SUMMARY:Rye't As Rain Rye Saison Release
DESCRIPTION:Rain? Do you remember the rain? Lately\,  it seems like a dista
 nt memory. To refresh our senses\,  we brewed this new version of a beer we
 &#8217;ve enjoyed producing (and drinking) a few times now. Meet Rye&#8217;
 t As Rain Rye Saison\,  2023 edition. Light in body with the heavy flavor a
 nd[..]\nhttps://on-rotation.com/events/ryet-as-rain-rye-saison-release/
URL:https://on-rotation.com/events/ryet-as-rain-rye-saison-release/
END:VEVENT
END:VCALENDAR