BEGIN:VCALENDAR
VERSION:2.0
PRODID:-//eventon.com NONSGML v1.0//EN
CALSCALE:GREGORIAN
METHOD:PUBLISH
BEGIN:VEVENT
UID:69e88ad45077e
DTSTAMP:20260422T084612Z
DTSTART:20230713T190000Z
DTEND:20230714T030000Z
LOCATION:On Rotation Brewery &amp; Kitchen 7701 Lemmon Ave.\,  Suite 200\,  Dallas\,  TX 75209
SUMMARY:Peachy Queen Peach Saison Release with Pink Boots Society
DESCRIPTION:A few weeks ago we had some extra hands in the brewery from the
  North Texas Chapter of the Pink Boots Society to help us brew a very speci
 al collaboration beer\,  Peachy Queen. The Pink Boots Society is an organiz
 ation dedicated to assisting\,  inspiring\,  and encouraging women and non-
 binary individuals[..]\nhttps://on-rotation.com/events/peachy-queen-peach-s
 aison-release-with-pink-boots-society/
URL:https://on-rotation.com/events/peachy-queen-peach-saison-release-with-pink-boots-society/
END:VEVENT
END:VCALENDAR