BEGIN:VCALENDAR
VERSION:2.0
PRODID:-//eventon.com NONSGML v1.0//EN
CALSCALE:GREGORIAN
METHOD:PUBLISH
BEGIN:VEVENT
UID:69e88b6abfbf0
DTSTAMP:20260422T084842Z
DTSTART:20230126T220000Z
DTEND:20230127T040000Z
LOCATION:On Rotation Brewery &amp; Kitchen 7701 Lemmon Ave.\,  Suite 200\,  Dallas\,  TX 75209
SUMMARY:Metafizzics Margarita Launch Party
DESCRIPTION:Join us for the grand debut of our latest hard seltzer cocktail
 \,  the Metafizzics Margarita. This one has been part of our R&amp;D progra
 m for some time. We get many requests for a margarita even though we only s
 erve beer &amp; wine in the taproom. But we knew our own[..]\nhttps://on-ro
 tation.com/events/metafizzics-margarita-launch-party/
URL:https://on-rotation.com/events/metafizzics-margarita-launch-party/
END:VEVENT
END:VCALENDAR