BEGIN:VCALENDAR
VERSION:2.0
PRODID:-//eventon.com NONSGML v1.0//EN
CALSCALE:GREGORIAN
METHOD:PUBLISH
BEGIN:VEVENT
UID:69e4d3266d666
DTSTAMP:20260419T130542Z
DTSTART:20230128T200000Z
DTEND:20230129T055000Z
LOCATION:On Rotation Brewery &amp; Kitchen 7701 Lemmon Ave.\,  Suite 200\,  Dallas\,  TX 75209
SUMMARY:Super Smash Bros. Melee Smashfest Tournament
DESCRIPTION:REGISTER TO COMPETE I﻿t is time to break in the new projector
  screen in the brewpub with our first Super Smash Bros. tournament. The &#8
 216;cube holds a special place in our hearts so we&#8217;re putting togethe
 r a casual &#8220;Smashfest&#8221; tournament with Super Smash Bros. Melee 
 on Nintendo Gamecube. There is[..]\nhttps://on-rotation.com/events/super-sm
 ash-bros-melee-smashfest-tournament/
URL:https://on-rotation.com/events/super-smash-bros-melee-smashfest-tournament/
END:VEVENT
END:VCALENDAR