BEGIN:VCALENDAR
VERSION:2.0
PRODID:-//eventon.com NONSGML v1.0//EN
CALSCALE:GREGORIAN
METHOD:PUBLISH
BEGIN:VEVENT
UID:69ed456d83a2e
DTSTAMP:20260425T225125Z
DTSTART:20220318T170000Z
DTEND:20220319T040000Z
LOCATION:On Rotation Brewery &amp; Kitchen 7701 Lemmon Ave.\,  Suite 200\,  Dallas\,  TX 75209
SUMMARY:Winter Storm Warning Cold IPA Release
DESCRIPTION:There&#8217;s no need to fear those &#8220;Winter Storm Warning
 &#8221; interruptions on your TV. This announcement is one you don&#8217;t 
 want to miss. We spent &#8220;Frigid February&#8221; in North Texas brewing
  two collaborations with our friends at Cowtown Brewing. Both were Cold IPA
 s\,  but we put our own spin on each[..]\nhttps://on-rotation.com/events/wi
 nter-storm-warning-cold-ipa-release/
URL:https://on-rotation.com/events/winter-storm-warning-cold-ipa-release/
END:VEVENT
END:VCALENDAR