BEGIN:VCALENDAR
VERSION:2.0
PRODID:-//eventon.com NONSGML v1.0//EN
CALSCALE:GREGORIAN
METHOD:PUBLISH
BEGIN:VEVENT
UID:69e537d3b1264
DTSTAMP:20260419T201515Z
DTSTART:20220409T170000Z
DTEND:20220410T030000Z
LOCATION:On Rotation Brewery &amp; Kitchen 7701 Lemmon Ave.\,  Suite 200\,  Dallas\,  TX 75209
SUMMARY:On Rotation's 7-Year Anniversary Party
DESCRIPTION:On Rotation is turning 7. That feels funny to say\,  but it&#82
 17;s true nonetheless. It&#8217;s time to celebrate our 7 years of small ba
 tch beers &#8211; and almost one full year of delicious fried chicken. Now 
 that we think about it\,  we never truly had a grand opening at the[..]\nht
 tps://on-rotation.com/events/on-rotations-7-year-anniversary-party/
URL:https://on-rotation.com/events/on-rotations-7-year-anniversary-party/
END:VEVENT
END:VCALENDAR