BEGIN:VCALENDAR
VERSION:2.0
PRODID:-//eventon.com NONSGML v1.0//EN
CALSCALE:GREGORIAN
METHOD:PUBLISH
BEGIN:VEVENT
UID:69eaa9b178bad
DTSTAMP:20260423T232225Z
DTSTART:20211007T190000Z
DTEND:20211008T030000Z
LOCATION:On Rotation Brewery &amp; Kitchen 7701 Lemmon Ave.\,  Suite 200\,  Dallas\,  TX 75209
SUMMARY:Eeyore Honey Lager Release
DESCRIPTION:When our last keg of lager is gone\,  we often say &#8220;Might
  take a day or two\,  but we&#8217;ll find a new one\, &#8221; just like ou
 r friend Eeyore. As we enter into the fall\,  we chose to enrich this lates
 t lager with Texas wildflower honey. It was Winnie&#8217;s idea. We[..]\nht
 tps://on-rotation.com/events/eeyore-honey-lager-release/
URL:https://on-rotation.com/events/eeyore-honey-lager-release/
END:VEVENT
END:VCALENDAR