BEGIN:VCALENDAR
VERSION:2.0
PRODID:-//eventon.com NONSGML v1.0//EN
CALSCALE:GREGORIAN
METHOD:PUBLISH
BEGIN:VEVENT
UID:69e739a77e4ea
DTSTAMP:20260421T084735Z
DTSTART:20210805T220000Z
DTEND:20210806T030000Z
LOCATION:On Rotation Brewery &amp; Kitchen 7701 Lemmon Ave.\,  Suite 200\,  Dallas\,  TX 75209
SUMMARY:Seltzer Cocktail Menu Launch
DESCRIPTION:We pride ourselves on doing some wondrous things with the bever
 ages we create before it flows through our taps to surprise and delight you
  with what we can put in a keg\,  but there are a few things we&#8217;ve wa
 nted to share that require a little mixology after the pour.[..]\nhttps://o
 n-rotation.com/events/seltzer-cocktail-menu-launch/
URL:https://on-rotation.com/events/seltzer-cocktail-menu-launch/
END:VEVENT
END:VCALENDAR